BEGIN:VCALENDAR
VERSION:2.0
PRODID:-//Willkommen bei der M&auml;rchenquelle - ECPv6.8.1//NONSGML v1.0//EN
CALSCALE:GREGORIAN
METHOD:PUBLISH
X-WR-CALNAME:Willkommen bei der M&auml;rchenquelle
X-ORIGINAL-URL:http://maerchenquelle.ch
X-WR-CALDESC:Veranstaltungen für Willkommen bei der M&auml;rchenquelle
REFRESH-INTERVAL;VALUE=DURATION:PT1H
X-Robots-Tag:noindex
X-PUBLISHED-TTL:PT1H
BEGIN:VTIMEZONE
TZID:Europe/Helsinki
BEGIN:DAYLIGHT
TZOFFSETFROM:+0200
TZOFFSETTO:+0300
TZNAME:EEST
DTSTART:20220327T010000
END:DAYLIGHT
BEGIN:STANDARD
TZOFFSETFROM:+0300
TZOFFSETTO:+0200
TZNAME:EET
DTSTART:20221030T010000
END:STANDARD
END:VTIMEZONE
BEGIN:VEVENT
DTSTART;TZID=Europe/Helsinki:20220410T190000
DTEND;TZID=Europe/Helsinki:20220410T200000
DTSTAMP:20260424T120825
CREATED:20220313T140951Z
LAST-MODIFIED:20220313T140951Z
UID:4148-1649617200-1649620800@maerchenquelle.ch
SUMMARY:Märchen und andere Geschichten vom Sich Versöhnen
DESCRIPTION:
URL:http://maerchenquelle.ch/event/maerchen-und-andere-geschichten-vom-sich-versoehnen/
LOCATION:Chienbergreben Gemeinschaftsraum\, Ebnetweg 28\, Gelterkinden\, BL\, 4460\, Schweiz
CATEGORIES:Erzählen
ORGANIZER;CN="Urs Volkart":MAILTO:urs.volkart@maerchenquelle.ch
END:VEVENT
END:VCALENDAR