BEGIN:VCALENDAR
VERSION:2.0
PRODID:-//Willkommen bei der M&auml;rchenquelle - ECPv6.8.1//NONSGML v1.0//EN
CALSCALE:GREGORIAN
METHOD:PUBLISH
X-WR-CALNAME:Willkommen bei der M&auml;rchenquelle
X-ORIGINAL-URL:http://maerchenquelle.ch
X-WR-CALDESC:Veranstaltungen für Willkommen bei der M&auml;rchenquelle
REFRESH-INTERVAL;VALUE=DURATION:PT1H
X-Robots-Tag:noindex
X-PUBLISHED-TTL:PT1H
BEGIN:VTIMEZONE
TZID:Europe/Helsinki
BEGIN:DAYLIGHT
TZOFFSETFROM:+0200
TZOFFSETTO:+0300
TZNAME:EEST
DTSTART:20220327T010000
END:DAYLIGHT
BEGIN:STANDARD
TZOFFSETFROM:+0300
TZOFFSETTO:+0200
TZNAME:EET
DTSTART:20221030T010000
END:STANDARD
END:VTIMEZONE
BEGIN:VEVENT
DTSTART;TZID=Europe/Helsinki:20220806T194500
DTEND;TZID=Europe/Helsinki:20220806T210000
DTSTAMP:20260424T061408
CREATED:20220724T095937Z
LAST-MODIFIED:20220724T095937Z
UID:4182-1659815100-1659819600@maerchenquelle.ch
SUMMARY:Märchenabend
DESCRIPTION:Märchen und Geschichten erzählt von Rosmarie Flückiger und Urs Volkart\, musikalisch begleitet von Ingrid Gauer und Peter Schmid. \nVorgängig festliches Abendessen um 18.15 Uhr. Anmeldung für Essen erforderlich. Kosten CHF 20.
URL:http://maerchenquelle.ch/event/maerchenabend/
LOCATION:Sunnehus\, Moosstrasse 41\, Wildhaus\, 9658\, Schweiz
CATEGORIES:Erzählen
ORGANIZER;CN="Stiftung Sunnehus":MAILTO:info@sunnehus.ch
END:VEVENT
END:VCALENDAR