BEGIN:VCALENDAR
VERSION:2.0
PRODID:-//Willkommen bei der M&auml;rchenquelle - ECPv6.8.1//NONSGML v1.0//EN
CALSCALE:GREGORIAN
METHOD:PUBLISH
X-ORIGINAL-URL:http://maerchenquelle.ch
X-WR-CALDESC:Veranstaltungen für Willkommen bei der M&auml;rchenquelle
REFRESH-INTERVAL;VALUE=DURATION:PT1H
X-Robots-Tag:noindex
X-PUBLISHED-TTL:PT1H
BEGIN:VTIMEZONE
TZID:Europe/Helsinki
BEGIN:DAYLIGHT
TZOFFSETFROM:+0200
TZOFFSETTO:+0300
TZNAME:EEST
DTSTART:20230326T010000
END:DAYLIGHT
BEGIN:STANDARD
TZOFFSETFROM:+0300
TZOFFSETTO:+0200
TZNAME:EET
DTSTART:20231029T010000
END:STANDARD
END:VTIMEZONE
BEGIN:VEVENT
DTSTART;TZID=Europe/Helsinki:20230917T171500
DTEND;TZID=Europe/Helsinki:20230917T183000
DTSTAMP:20260422T193551
CREATED:20230823T132958Z
LAST-MODIFIED:20230823T133147Z
UID:4250-1694970900-1694975400@maerchenquelle.ch
SUMMARY:Alles nur ein Märchen ?
DESCRIPTION:E Ma dä isch in d`Mühli cho\nfür d`Firma mues er schaffe do\nwärbe für si Chatzestreu\nwill die isch nämlig neu \n…und dann geschehen wundersame Dinge…
URL:http://maerchenquelle.ch/event/alles-nur-ein-maerchen-3/
LOCATION:Obere Mühle Oltingen\, Schafmattstrasse 71\, Oltingen\, BL\, 4494\, Schweiz
CATEGORIES:Theater
ORGANIZER;CN="Obere M%C3%BChle Oltingen":MAILTO:oberemuehleoltingen@gmx.ch
END:VEVENT
END:VCALENDAR