BEGIN:VCALENDAR
VERSION:2.0
PRODID:-//Willkommen bei der M&auml;rchenquelle - ECPv6.8.1//NONSGML v1.0//EN
CALSCALE:GREGORIAN
METHOD:PUBLISH
X-WR-CALNAME:Willkommen bei der M&auml;rchenquelle
X-ORIGINAL-URL:http://maerchenquelle.ch
X-WR-CALDESC:Veranstaltungen für Willkommen bei der M&auml;rchenquelle
REFRESH-INTERVAL;VALUE=DURATION:PT1H
X-Robots-Tag:noindex
X-PUBLISHED-TTL:PT1H
BEGIN:VTIMEZONE
TZID:Europe/Helsinki
BEGIN:DAYLIGHT
TZOFFSETFROM:+0200
TZOFFSETTO:+0300
TZNAME:EEST
DTSTART:20240331T010000
END:DAYLIGHT
BEGIN:STANDARD
TZOFFSETFROM:+0300
TZOFFSETTO:+0200
TZNAME:EET
DTSTART:20241027T010000
END:STANDARD
END:VTIMEZONE
BEGIN:VEVENT
DTSTART;TZID=Europe/Helsinki:20241122T190000
DTEND;TZID=Europe/Helsinki:20241122T203000
DTSTAMP:20260421T213057
CREATED:20241114T084510Z
LAST-MODIFIED:20241114T084510Z
UID:4304-1732302000-1732307400@maerchenquelle.ch
SUMMARY:Ein Türspalt zur Märchenwelt
DESCRIPTION:Märchen für Erwachsene und Jugendliche \nfrei erzählt von Rosmarie Flückiger und Urs Volkart\,\nmusikalische Begleitung Ingrid Gauer
URL:http://maerchenquelle.ch/event/ein-tuerspalt-zur-maerchenwelt/
LOCATION:Chienbergreben Gemeinschaftsraum\, Ebnetweg 28\, Gelterkinden\, BL\, 4460\, Schweiz
CATEGORIES:Erzählen
ORGANIZER;CN="Urs Volkart":MAILTO:urs.volkart@maerchenquelle.ch
END:VEVENT
END:VCALENDAR