BEGIN:VCALENDAR
VERSION:2.0
PRODID:-//Willkommen bei der M&auml;rchenquelle - ECPv6.8.1//NONSGML v1.0//EN
CALSCALE:GREGORIAN
METHOD:PUBLISH
X-WR-CALNAME:Willkommen bei der M&auml;rchenquelle
X-ORIGINAL-URL:http://maerchenquelle.ch
X-WR-CALDESC:Veranstaltungen für Willkommen bei der M&auml;rchenquelle
REFRESH-INTERVAL;VALUE=DURATION:PT1H
X-Robots-Tag:noindex
X-PUBLISHED-TTL:PT1H
BEGIN:VTIMEZONE
TZID:Europe/Helsinki
BEGIN:DAYLIGHT
TZOFFSETFROM:+0200
TZOFFSETTO:+0300
TZNAME:EEST
DTSTART:20230326T010000
END:DAYLIGHT
BEGIN:STANDARD
TZOFFSETFROM:+0300
TZOFFSETTO:+0200
TZNAME:EET
DTSTART:20231029T010000
END:STANDARD
END:VTIMEZONE
BEGIN:VEVENT
DTSTART;TZID=Europe/Helsinki:20230915T201500
DTEND;TZID=Europe/Helsinki:20230915T213000
DTSTAMP:20260422T180911
CREATED:20230823T132053Z
LAST-MODIFIED:20230823T132505Z
UID:4239-1694808900-1694813400@maerchenquelle.ch
SUMMARY:Alles nur ein Märchen ?
DESCRIPTION:E Ma dä isch in d`Mühli cho\nfür d`Firma mues er schaffe do\nwärbe für si Chatzestreu\nwill die isch nämlig neu \n…und dann geschehen wundersame Dinge…
URL:http://maerchenquelle.ch/event/alles-nur-ein-maerchen/
LOCATION:Obere Mühle Oltingen\, Schafmattstrasse 71\, Oltingen\, BL\, 4494\, Schweiz
CATEGORIES:Theater
ORGANIZER;CN="Obere M%C3%BChle Oltingen":MAILTO:oberemuehleoltingen@gmx.ch
END:VEVENT
BEGIN:VEVENT
DTSTART;TZID=Europe/Helsinki:20230916T201500
DTEND;TZID=Europe/Helsinki:20230916T213000
DTSTAMP:20260422T180911
CREATED:20230823T132823Z
LAST-MODIFIED:20230823T133131Z
UID:4248-1694895300-1694899800@maerchenquelle.ch
SUMMARY:Alles nur ein Märchen ?
DESCRIPTION:E Ma dä isch in d`Mühli cho\nfür d`Firma mues er schaffe do\nwärbe für si Chatzestreu\nwill die isch nämlig neu \n…und dann geschehen wundersame Dinge…
URL:http://maerchenquelle.ch/event/alles-nur-ein-maerchen-2/
LOCATION:Obere Mühle Oltingen\, Schafmattstrasse 71\, Oltingen\, BL\, 4494\, Schweiz
CATEGORIES:Theater
ORGANIZER;CN="Obere M%C3%BChle Oltingen":MAILTO:oberemuehleoltingen@gmx.ch
END:VEVENT
BEGIN:VEVENT
DTSTART;TZID=Europe/Helsinki:20230917T171500
DTEND;TZID=Europe/Helsinki:20230917T183000
DTSTAMP:20260422T180911
CREATED:20230823T132958Z
LAST-MODIFIED:20230823T133147Z
UID:4250-1694970900-1694975400@maerchenquelle.ch
SUMMARY:Alles nur ein Märchen ?
DESCRIPTION:E Ma dä isch in d`Mühli cho\nfür d`Firma mues er schaffe do\nwärbe für si Chatzestreu\nwill die isch nämlig neu \n…und dann geschehen wundersame Dinge…
URL:http://maerchenquelle.ch/event/alles-nur-ein-maerchen-3/
LOCATION:Obere Mühle Oltingen\, Schafmattstrasse 71\, Oltingen\, BL\, 4494\, Schweiz
CATEGORIES:Theater
ORGANIZER;CN="Obere M%C3%BChle Oltingen":MAILTO:oberemuehleoltingen@gmx.ch
END:VEVENT
BEGIN:VEVENT
DTSTART;TZID=Europe/Helsinki:20230924T100000
DTEND;TZID=Europe/Helsinki:20230924T140000
DTSTAMP:20260422T180911
CREATED:20230915T075012Z
LAST-MODIFIED:20230915T075012Z
UID:4261-1695549600-1695564000@maerchenquelle.ch
SUMMARY:Tag der offenen Märchen-Lesebibliotheken
DESCRIPTION:Bibliothek geöffnet von 10-14 Uhr.\nFür Speis und Trank ist gesorgt. \n11.15 Uhr Märchenspaziergang durch das Dorf schöne Oltingen mit Ines Henner und Fidelio Lippuner.
URL:http://maerchenquelle.ch/event/tag-der-offenen-maerchen-lesebibliotheken/
LOCATION:Märchen-Lesebibliothek Baselland\, Obere Mühle\, Schafmattstrasse 71\, Oltingen\, BL\, 4494\, Schweiz
CATEGORIES:Märchen und Sagen
END:VEVENT
END:VCALENDAR