BEGIN:VCALENDAR
VERSION:2.0
PRODID:-//Willkommen bei der M&auml;rchenquelle - ECPv6.8.1//NONSGML v1.0//EN
CALSCALE:GREGORIAN
METHOD:PUBLISH
X-ORIGINAL-URL:http://maerchenquelle.ch
X-WR-CALDESC:Veranstaltungen für Willkommen bei der M&auml;rchenquelle
REFRESH-INTERVAL;VALUE=DURATION:PT1H
X-Robots-Tag:noindex
X-PUBLISHED-TTL:PT1H
BEGIN:VTIMEZONE
TZID:Europe/Helsinki
BEGIN:DAYLIGHT
TZOFFSETFROM:+0200
TZOFFSETTO:+0300
TZNAME:EEST
DTSTART:20230326T010000
END:DAYLIGHT
BEGIN:STANDARD
TZOFFSETFROM:+0300
TZOFFSETTO:+0200
TZNAME:EET
DTSTART:20231029T010000
END:STANDARD
END:VTIMEZONE
BEGIN:VEVENT
DTSTART;TZID=Europe/Helsinki:20231022T153000
DTEND;TZID=Europe/Helsinki:20231022T164500
DTSTAMP:20260422T164104
CREATED:20230915T085922Z
LAST-MODIFIED:20230915T085922Z
UID:4271-1697988600-1697993100@maerchenquelle.ch
SUMMARY:Amor und Psyche
DESCRIPTION:Wenn Gott und Mensch sich verlieben. \nMit “Denise Racine Solo Theater” am Märchenfest Münchenstein \n(keine Reservation möglich\, nur Billettkasse)
URL:http://maerchenquelle.ch/event/amor-und-psyche/
LOCATION:Rudolf Steiner Schule Münchenstein\, Gutenbergstrasse 1\, Münchenstein\, BL\, 4142\, Schweiz
CATEGORIES:Erzählen,Theater
END:VEVENT
END:VCALENDAR