BEGIN:VCALENDAR
VERSION:2.0
PRODID:-//Willkommen bei der M&auml;rchenquelle - ECPv6.8.1//NONSGML v1.0//EN
CALSCALE:GREGORIAN
METHOD:PUBLISH
X-WR-CALNAME:Willkommen bei der M&auml;rchenquelle
X-ORIGINAL-URL:http://maerchenquelle.ch
X-WR-CALDESC:Veranstaltungen für Willkommen bei der M&auml;rchenquelle
REFRESH-INTERVAL;VALUE=DURATION:PT1H
X-Robots-Tag:noindex
X-PUBLISHED-TTL:PT1H
BEGIN:VTIMEZONE
TZID:Europe/Helsinki
BEGIN:DAYLIGHT
TZOFFSETFROM:+0200
TZOFFSETTO:+0300
TZNAME:EEST
DTSTART:20240331T010000
END:DAYLIGHT
BEGIN:STANDARD
TZOFFSETFROM:+0300
TZOFFSETTO:+0200
TZNAME:EET
DTSTART:20241027T010000
END:STANDARD
END:VTIMEZONE
BEGIN:VEVENT
DTSTART;TZID=Europe/Helsinki:20240309T190000
DTEND;TZID=Europe/Helsinki:20240309T203000
DTSTAMP:20260422T085537
CREATED:20240301T155349Z
LAST-MODIFIED:20240301T155523Z
UID:4278-1710010800-1710016200@maerchenquelle.ch
SUMMARY:Basilisgge\, Schlangefraue und Gschpängschter
DESCRIPTION:Märchenstafette der Schweizerischen Märchengesellschaft\nHalt in Basel
URL:http://maerchenquelle.ch/event/basilisgge-schlangefraue-und-gschpaengschter/
LOCATION:Buchhandlung Ganzoni\, Spalenvorstadt 45\, Basel\, 4051\, Schweiz
CATEGORIES:Erzählen,Märchen und Sagen
END:VEVENT
END:VCALENDAR